BEGIN:VCALENDAR
VERSION:2.0
PRODID:-//Center for Spiritual Living Bellingham - ECPv6.15.20//NONSGML v1.0//EN
CALSCALE:GREGORIAN
METHOD:PUBLISH
X-ORIGINAL-URL:https://cslbellingham.org
X-WR-CALDESC:Events for Center for Spiritual Living Bellingham
REFRESH-INTERVAL;VALUE=DURATION:PT1H
X-Robots-Tag:noindex
X-PUBLISHED-TTL:PT1H
BEGIN:VTIMEZONE
TZID:America/Los_Angeles
BEGIN:DAYLIGHT
TZOFFSETFROM:-0800
TZOFFSETTO:-0700
TZNAME:PDT
DTSTART:20300310T100000
END:DAYLIGHT
BEGIN:STANDARD
TZOFFSETFROM:-0700
TZOFFSETTO:-0800
TZNAME:PST
DTSTART:20301103T090000
END:STANDARD
BEGIN:DAYLIGHT
TZOFFSETFROM:-0800
TZOFFSETTO:-0700
TZNAME:PDT
DTSTART:20310309T100000
END:DAYLIGHT
BEGIN:STANDARD
TZOFFSETFROM:-0700
TZOFFSETTO:-0800
TZNAME:PST
DTSTART:20311102T090000
END:STANDARD
BEGIN:DAYLIGHT
TZOFFSETFROM:-0800
TZOFFSETTO:-0700
TZNAME:PDT
DTSTART:20320314T100000
END:DAYLIGHT
BEGIN:STANDARD
TZOFFSETFROM:-0700
TZOFFSETTO:-0800
TZNAME:PST
DTSTART:20321107T090000
END:STANDARD
END:VTIMEZONE
BEGIN:VEVENT
DTSTART;TZID=America/Los_Angeles:20310409T190000
DTEND;TZID=America/Los_Angeles:20310409T203000
DTSTAMP:20260419T161851
CREATED:20230510T010723Z
LAST-MODIFIED:20230510T011026Z
UID:10022263-1933527600-1933533000@cslbellingham.org
SUMMARY:CSL Drum Circle
DESCRIPTION:2nd and 4th Wednesdays from 7-8 PM in the Sanctuary \nMake a joyful noise and raise your spirits as you raise the roof in a drum circle that includes percussion instruments of all sorts. This drum circle is open to anyone! Lots of percussion instruments available\, so come on and join the fun! \n2nd and 4th Wednesdays of the month.
URL:https://cslbellingham.org/event/csl-drum-circle-2/2031-04-09/
LOCATION:Sanctuary – Center for Spiritual Living Bellingham\, 2224 Yew Street Road\, Bellingham\, WA\, United States
ORGANIZER;CN="CSL Bellingham Office":MAILTO:info@cslbellingham.org
GEO:48.7216949;-122.442241
X-APPLE-STRUCTURED-LOCATION;VALUE=URI;X-ADDRESS=Sanctuary – Center for Spiritual Living Bellingham 2224 Yew Street Road Bellingham WA United States;X-APPLE-RADIUS=500;X-TITLE=2224 Yew Street Road:geo:-122.442241,48.7216949
END:VEVENT
END:VCALENDAR