BEGIN:VCALENDAR
VERSION:2.0
PRODID:-//Center for Spiritual Living Bellingham - ECPv6.15.20//NONSGML v1.0//EN
CALSCALE:GREGORIAN
METHOD:PUBLISH
X-ORIGINAL-URL:https://cslbellingham.org
X-WR-CALDESC:Events for Center for Spiritual Living Bellingham
REFRESH-INTERVAL;VALUE=DURATION:PT1H
X-Robots-Tag:noindex
X-PUBLISHED-TTL:PT1H
BEGIN:VTIMEZONE
TZID:America/Los_Angeles
BEGIN:DAYLIGHT
TZOFFSETFROM:-0800
TZOFFSETTO:-0700
TZNAME:PDT
DTSTART:20300310T100000
END:DAYLIGHT
BEGIN:STANDARD
TZOFFSETFROM:-0700
TZOFFSETTO:-0800
TZNAME:PST
DTSTART:20301103T090000
END:STANDARD
BEGIN:DAYLIGHT
TZOFFSETFROM:-0800
TZOFFSETTO:-0700
TZNAME:PDT
DTSTART:20310309T100000
END:DAYLIGHT
BEGIN:STANDARD
TZOFFSETFROM:-0700
TZOFFSETTO:-0800
TZNAME:PST
DTSTART:20311102T090000
END:STANDARD
BEGIN:DAYLIGHT
TZOFFSETFROM:-0800
TZOFFSETTO:-0700
TZNAME:PDT
DTSTART:20320314T100000
END:DAYLIGHT
BEGIN:STANDARD
TZOFFSETFROM:-0700
TZOFFSETTO:-0800
TZNAME:PST
DTSTART:20321107T090000
END:STANDARD
END:VTIMEZONE
BEGIN:VTIMEZONE
TZID:UTC
BEGIN:STANDARD
TZOFFSETFROM:+0000
TZOFFSETTO:+0000
TZNAME:UTC
DTSTART:20300101T000000
END:STANDARD
END:VTIMEZONE
BEGIN:VEVENT
DTSTART;TZID=America/Los_Angeles:20310402T190000
DTEND;TZID=America/Los_Angeles:20310402T200000
DTSTAMP:20260424T181114
CREATED:20250818T223014Z
LAST-MODIFIED:20250818T223015Z
UID:10022254-1932922800-1932926400@cslbellingham.org
SUMMARY:Al-Anon Meeting - "Our Common Welfare"
DESCRIPTION:Meets on Wednesdays from 7-8 PM in the classroom. Contact Cathy B\, 360-600-1949\, for further information.
URL:https://cslbellingham.org/event/al-anon-meeting-our-common-welfare-2-2/2031-04-02/
LOCATION:Classroom – Center for Spiritual Living Bellingham\, 2224 Yew Street Road\, Bellingham\, WA\, 98229\, United States
CATEGORIES:Outside Event
ATTACH;FMTTYPE=image/jpeg:https://cslbellingham.org/wp-content/uploads/2024/01/Our-Common-Welfare.jpg
ORGANIZER;CN="CSL Bellingham Office":MAILTO:info@cslbellingham.org
GEO:48.7216949;-122.442241
X-APPLE-STRUCTURED-LOCATION;VALUE=URI;X-ADDRESS=Classroom – Center for Spiritual Living Bellingham 2224 Yew Street Road Bellingham WA 98229 United States;X-APPLE-RADIUS=500;X-TITLE=2224 Yew Street Road:geo:-122.442241,48.7216949
END:VEVENT
BEGIN:VEVENT
DTSTART;TZID=UTC:20310407T180000
DTEND;TZID=UTC:20310407T193000
DTSTAMP:20260424T181114
CREATED:20240518T170121Z
LAST-MODIFIED:20240518T170124Z
UID:10022258-1933351200-1933356600@cslbellingham.org
SUMMARY:Woodside Sangha - in person and via Zoom
DESCRIPTION:This Buddhist meditation group gathers on Monday evenings (in-person and via Zoom) at 5:45 for those in person practicing walking meditation or 6:00 for those on Zoom.  Meditation ends around 7:15 PM. For further information\, please contact Andrea Asebedo at woodsidesangha@gmail.com. You are very welcome to attend!
URL:https://cslbellingham.org/event/woodside-sangha-2020-05-04-2020-06-29-2021-10-25-7-2-2/2031-04-07/
LOCATION:2224 Yew Street Road\, Bellingham\, WA\, 98229\, United States
CATEGORIES:Outside Event
ATTACH;FMTTYPE=image/png:https://cslbellingham.org/wp-content/uploads/2024/04/Buddhist-meditation.png
END:VEVENT
BEGIN:VEVENT
DTSTART;TZID=America/Los_Angeles:20310409T190000
DTEND;TZID=America/Los_Angeles:20310409T200000
DTSTAMP:20260424T181114
CREATED:20250818T223014Z
LAST-MODIFIED:20250818T223015Z
UID:10022261-1933527600-1933531200@cslbellingham.org
SUMMARY:Al-Anon Meeting - "Our Common Welfare"
DESCRIPTION:Meets on Wednesdays from 7-8 PM in the classroom. Contact Cathy B\, 360-600-1949\, for further information.
URL:https://cslbellingham.org/event/al-anon-meeting-our-common-welfare-2-2/2031-04-09/
LOCATION:Classroom – Center for Spiritual Living Bellingham\, 2224 Yew Street Road\, Bellingham\, WA\, 98229\, United States
CATEGORIES:Outside Event
ATTACH;FMTTYPE=image/jpeg:https://cslbellingham.org/wp-content/uploads/2024/01/Our-Common-Welfare.jpg
ORGANIZER;CN="CSL Bellingham Office":MAILTO:info@cslbellingham.org
GEO:48.7216949;-122.442241
X-APPLE-STRUCTURED-LOCATION;VALUE=URI;X-ADDRESS=Classroom – Center for Spiritual Living Bellingham 2224 Yew Street Road Bellingham WA 98229 United States;X-APPLE-RADIUS=500;X-TITLE=2224 Yew Street Road:geo:-122.442241,48.7216949
END:VEVENT
BEGIN:VEVENT
DTSTART;TZID=UTC:20310414T180000
DTEND;TZID=UTC:20310414T193000
DTSTAMP:20260424T181114
CREATED:20240518T170121Z
LAST-MODIFIED:20240518T170124Z
UID:10022266-1933956000-1933961400@cslbellingham.org
SUMMARY:Woodside Sangha - in person and via Zoom
DESCRIPTION:This Buddhist meditation group gathers on Monday evenings (in-person and via Zoom) at 5:45 for those in person practicing walking meditation or 6:00 for those on Zoom.  Meditation ends around 7:15 PM. For further information\, please contact Andrea Asebedo at woodsidesangha@gmail.com. You are very welcome to attend!
URL:https://cslbellingham.org/event/woodside-sangha-2020-05-04-2020-06-29-2021-10-25-7-2-2/2031-04-14/
LOCATION:2224 Yew Street Road\, Bellingham\, WA\, 98229\, United States
CATEGORIES:Outside Event
ATTACH;FMTTYPE=image/png:https://cslbellingham.org/wp-content/uploads/2024/04/Buddhist-meditation.png
END:VEVENT
BEGIN:VEVENT
DTSTART;TZID=America/Los_Angeles:20310416T190000
DTEND;TZID=America/Los_Angeles:20310416T200000
DTSTAMP:20260424T181114
CREATED:20250818T223014Z
LAST-MODIFIED:20250818T223015Z
UID:10022268-1934132400-1934136000@cslbellingham.org
SUMMARY:Al-Anon Meeting - "Our Common Welfare"
DESCRIPTION:Meets on Wednesdays from 7-8 PM in the classroom. Contact Cathy B\, 360-600-1949\, for further information.
URL:https://cslbellingham.org/event/al-anon-meeting-our-common-welfare-2-2/2031-04-16/
LOCATION:Classroom – Center for Spiritual Living Bellingham\, 2224 Yew Street Road\, Bellingham\, WA\, 98229\, United States
CATEGORIES:Outside Event
ATTACH;FMTTYPE=image/jpeg:https://cslbellingham.org/wp-content/uploads/2024/01/Our-Common-Welfare.jpg
ORGANIZER;CN="CSL Bellingham Office":MAILTO:info@cslbellingham.org
GEO:48.7216949;-122.442241
X-APPLE-STRUCTURED-LOCATION;VALUE=URI;X-ADDRESS=Classroom – Center for Spiritual Living Bellingham 2224 Yew Street Road Bellingham WA 98229 United States;X-APPLE-RADIUS=500;X-TITLE=2224 Yew Street Road:geo:-122.442241,48.7216949
END:VEVENT
END:VCALENDAR