BEGIN:VCALENDAR
VERSION:2.0
PRODID:-//Center for Spiritual Living Bellingham - ECPv6.15.20//NONSGML v1.0//EN
CALSCALE:GREGORIAN
METHOD:PUBLISH
X-WR-CALNAME:Center for Spiritual Living Bellingham
X-ORIGINAL-URL:https://cslbellingham.org
X-WR-CALDESC:Events for Center for Spiritual Living Bellingham
REFRESH-INTERVAL;VALUE=DURATION:PT1H
X-Robots-Tag:noindex
X-PUBLISHED-TTL:PT1H
BEGIN:VTIMEZONE
TZID:UTC
BEGIN:STANDARD
TZOFFSETFROM:+0000
TZOFFSETTO:+0000
TZNAME:UTC
DTSTART:20290101T000000
END:STANDARD
END:VTIMEZONE
BEGIN:VTIMEZONE
TZID:America/Los_Angeles
BEGIN:DAYLIGHT
TZOFFSETFROM:-0800
TZOFFSETTO:-0700
TZNAME:PDT
DTSTART:20290311T100000
END:DAYLIGHT
BEGIN:STANDARD
TZOFFSETFROM:-0700
TZOFFSETTO:-0800
TZNAME:PST
DTSTART:20291104T090000
END:STANDARD
BEGIN:DAYLIGHT
TZOFFSETFROM:-0800
TZOFFSETTO:-0700
TZNAME:PDT
DTSTART:20300310T100000
END:DAYLIGHT
BEGIN:STANDARD
TZOFFSETFROM:-0700
TZOFFSETTO:-0800
TZNAME:PST
DTSTART:20301103T090000
END:STANDARD
BEGIN:DAYLIGHT
TZOFFSETFROM:-0800
TZOFFSETTO:-0700
TZNAME:PDT
DTSTART:20310309T100000
END:DAYLIGHT
BEGIN:STANDARD
TZOFFSETFROM:-0700
TZOFFSETTO:-0800
TZNAME:PST
DTSTART:20311102T090000
END:STANDARD
END:VTIMEZONE
BEGIN:VEVENT
DTSTART;TZID=UTC:20300902T180000
DTEND;TZID=UTC:20300902T193000
DTSTAMP:20260424T070417
CREATED:20240518T170121Z
LAST-MODIFIED:20240518T170124Z
UID:10019227-1914602400-1914607800@cslbellingham.org
SUMMARY:Woodside Sangha - in person and via Zoom
DESCRIPTION:This Buddhist meditation group gathers on Monday evenings (in-person and via Zoom) at 5:45 for those in person practicing walking meditation or 6:00 for those on Zoom.  Meditation ends around 7:15 PM. For further information\, please contact Andrea Asebedo at woodsidesangha@gmail.com. You are very welcome to attend!
URL:https://cslbellingham.org/event/woodside-sangha-2020-05-04-2020-06-29-2021-10-25-7-2-2/2030-09-02/
LOCATION:2224 Yew Street Road\, Bellingham\, WA\, 98229\, United States
CATEGORIES:Outside Event
ATTACH;FMTTYPE=image/png:https://cslbellingham.org/wp-content/uploads/2024/04/Buddhist-meditation.png
END:VEVENT
BEGIN:VEVENT
DTSTART;TZID=America/Los_Angeles:20300904T190000
DTEND;TZID=America/Los_Angeles:20300904T200000
DTSTAMP:20260424T070417
CREATED:20250818T223014Z
LAST-MODIFIED:20250818T223015Z
UID:10019453-1914778800-1914782400@cslbellingham.org
SUMMARY:Al-Anon Meeting - "Our Common Welfare"
DESCRIPTION:Meets on Wednesdays from 7-8 PM in the classroom. Contact Cathy B\, 360-600-1949\, for further information.
URL:https://cslbellingham.org/event/al-anon-meeting-our-common-welfare-2-2/2030-09-04/
LOCATION:Classroom – Center for Spiritual Living Bellingham\, 2224 Yew Street Road\, Bellingham\, WA\, 98229\, United States
CATEGORIES:Outside Event
ATTACH;FMTTYPE=image/jpeg:https://cslbellingham.org/wp-content/uploads/2024/01/Our-Common-Welfare.jpg
ORGANIZER;CN="CSL Bellingham Office":MAILTO:info@cslbellingham.org
GEO:48.7216949;-122.442241
X-APPLE-STRUCTURED-LOCATION;VALUE=URI;X-ADDRESS=Classroom – Center for Spiritual Living Bellingham 2224 Yew Street Road Bellingham WA 98229 United States;X-APPLE-RADIUS=500;X-TITLE=2224 Yew Street Road:geo:-122.442241,48.7216949
END:VEVENT
BEGIN:VEVENT
DTSTART;TZID=UTC:20300909T180000
DTEND;TZID=UTC:20300909T193000
DTSTAMP:20260424T070417
CREATED:20240518T170121Z
LAST-MODIFIED:20240518T170124Z
UID:10019238-1915207200-1915212600@cslbellingham.org
SUMMARY:Woodside Sangha - in person and via Zoom
DESCRIPTION:This Buddhist meditation group gathers on Monday evenings (in-person and via Zoom) at 5:45 for those in person practicing walking meditation or 6:00 for those on Zoom.  Meditation ends around 7:15 PM. For further information\, please contact Andrea Asebedo at woodsidesangha@gmail.com. You are very welcome to attend!
URL:https://cslbellingham.org/event/woodside-sangha-2020-05-04-2020-06-29-2021-10-25-7-2-2/2030-09-09/
LOCATION:2224 Yew Street Road\, Bellingham\, WA\, 98229\, United States
CATEGORIES:Outside Event
ATTACH;FMTTYPE=image/png:https://cslbellingham.org/wp-content/uploads/2024/04/Buddhist-meditation.png
END:VEVENT
BEGIN:VEVENT
DTSTART;TZID=America/Los_Angeles:20300911T190000
DTEND;TZID=America/Los_Angeles:20300911T200000
DTSTAMP:20260424T070417
CREATED:20250818T223014Z
LAST-MODIFIED:20250818T223015Z
UID:10019454-1915383600-1915387200@cslbellingham.org
SUMMARY:Al-Anon Meeting - "Our Common Welfare"
DESCRIPTION:Meets on Wednesdays from 7-8 PM in the classroom. Contact Cathy B\, 360-600-1949\, for further information.
URL:https://cslbellingham.org/event/al-anon-meeting-our-common-welfare-2-2/2030-09-11/
LOCATION:Classroom – Center for Spiritual Living Bellingham\, 2224 Yew Street Road\, Bellingham\, WA\, 98229\, United States
CATEGORIES:Outside Event
ATTACH;FMTTYPE=image/jpeg:https://cslbellingham.org/wp-content/uploads/2024/01/Our-Common-Welfare.jpg
ORGANIZER;CN="CSL Bellingham Office":MAILTO:info@cslbellingham.org
GEO:48.7216949;-122.442241
X-APPLE-STRUCTURED-LOCATION;VALUE=URI;X-ADDRESS=Classroom – Center for Spiritual Living Bellingham 2224 Yew Street Road Bellingham WA 98229 United States;X-APPLE-RADIUS=500;X-TITLE=2224 Yew Street Road:geo:-122.442241,48.7216949
END:VEVENT
BEGIN:VEVENT
DTSTART;TZID=America/Los_Angeles:20300912T183000
DTEND;TZID=America/Los_Angeles:20300912T203000
DTSTAMP:20260424T070417
CREATED:20230510T134917Z
LAST-MODIFIED:20230510T135055Z
UID:10019243-1915468200-1915475400@cslbellingham.org
SUMMARY:Thursday Reiki Share
DESCRIPTION:Please join us in the CSL Office on 2nd and 4th Thursdays\, 6:30 – 8:30\, for a Reiki share. We will have a short meditation followed by a short attunement\, a quick explanation of the Reiki principles\, and then group healing\, during which each person takes turns receiving healing hands from the group. It is for first-timers\, experienced Reiki teachers\, and anyone in-between. You may find that it is the most peaceful and calming part of your week. I know I do. We look forward to sharing it with you. For further information\, contact Jeremy at 360-348-0018. Gassho 🙏
URL:https://cslbellingham.org/event/thursday-reiki-share/2030-09-12/
LOCATION:Office – Center for Spiritual Living Bellingham\, 2224 Yew Street Road\, Bellingham\, WA
CATEGORIES:Outside Event
ORGANIZER;CN="CSL Bellingham Office":MAILTO:info@cslbellingham.org
GEO:48.7216949;-122.442241
X-APPLE-STRUCTURED-LOCATION;VALUE=URI;X-ADDRESS=Office – Center for Spiritual Living Bellingham 2224 Yew Street Road Bellingham WA;X-APPLE-RADIUS=500;X-TITLE=2224 Yew Street Road:geo:-122.442241,48.7216949
END:VEVENT
BEGIN:VEVENT
DTSTART;TZID=UTC:20300916T180000
DTEND;TZID=UTC:20300916T193000
DTSTAMP:20260424T070417
CREATED:20240518T170121Z
LAST-MODIFIED:20240518T170124Z
UID:10019245-1915812000-1915817400@cslbellingham.org
SUMMARY:Woodside Sangha - in person and via Zoom
DESCRIPTION:This Buddhist meditation group gathers on Monday evenings (in-person and via Zoom) at 5:45 for those in person practicing walking meditation or 6:00 for those on Zoom.  Meditation ends around 7:15 PM. For further information\, please contact Andrea Asebedo at woodsidesangha@gmail.com. You are very welcome to attend!
URL:https://cslbellingham.org/event/woodside-sangha-2020-05-04-2020-06-29-2021-10-25-7-2-2/2030-09-16/
LOCATION:2224 Yew Street Road\, Bellingham\, WA\, 98229\, United States
CATEGORIES:Outside Event
ATTACH;FMTTYPE=image/png:https://cslbellingham.org/wp-content/uploads/2024/04/Buddhist-meditation.png
END:VEVENT
BEGIN:VEVENT
DTSTART;TZID=America/Los_Angeles:20300918T190000
DTEND;TZID=America/Los_Angeles:20300918T200000
DTSTAMP:20260424T070417
CREATED:20250818T223014Z
LAST-MODIFIED:20250818T223015Z
UID:10019455-1915988400-1915992000@cslbellingham.org
SUMMARY:Al-Anon Meeting - "Our Common Welfare"
DESCRIPTION:Meets on Wednesdays from 7-8 PM in the classroom. Contact Cathy B\, 360-600-1949\, for further information.
URL:https://cslbellingham.org/event/al-anon-meeting-our-common-welfare-2-2/2030-09-18/
LOCATION:Classroom – Center for Spiritual Living Bellingham\, 2224 Yew Street Road\, Bellingham\, WA\, 98229\, United States
CATEGORIES:Outside Event
ATTACH;FMTTYPE=image/jpeg:https://cslbellingham.org/wp-content/uploads/2024/01/Our-Common-Welfare.jpg
ORGANIZER;CN="CSL Bellingham Office":MAILTO:info@cslbellingham.org
GEO:48.7216949;-122.442241
X-APPLE-STRUCTURED-LOCATION;VALUE=URI;X-ADDRESS=Classroom – Center for Spiritual Living Bellingham 2224 Yew Street Road Bellingham WA 98229 United States;X-APPLE-RADIUS=500;X-TITLE=2224 Yew Street Road:geo:-122.442241,48.7216949
END:VEVENT
BEGIN:VEVENT
DTSTART;TZID=UTC:20300923T180000
DTEND;TZID=UTC:20300923T193000
DTSTAMP:20260424T070417
CREATED:20240518T170121Z
LAST-MODIFIED:20240518T170124Z
UID:10019251-1916416800-1916422200@cslbellingham.org
SUMMARY:Woodside Sangha - in person and via Zoom
DESCRIPTION:This Buddhist meditation group gathers on Monday evenings (in-person and via Zoom) at 5:45 for those in person practicing walking meditation or 6:00 for those on Zoom.  Meditation ends around 7:15 PM. For further information\, please contact Andrea Asebedo at woodsidesangha@gmail.com. You are very welcome to attend!
URL:https://cslbellingham.org/event/woodside-sangha-2020-05-04-2020-06-29-2021-10-25-7-2-2/2030-09-23/
LOCATION:2224 Yew Street Road\, Bellingham\, WA\, 98229\, United States
CATEGORIES:Outside Event
ATTACH;FMTTYPE=image/png:https://cslbellingham.org/wp-content/uploads/2024/04/Buddhist-meditation.png
END:VEVENT
BEGIN:VEVENT
DTSTART;TZID=America/Los_Angeles:20300925T190000
DTEND;TZID=America/Los_Angeles:20300925T200000
DTSTAMP:20260424T070417
CREATED:20250818T223014Z
LAST-MODIFIED:20250818T223015Z
UID:10019456-1916593200-1916596800@cslbellingham.org
SUMMARY:Al-Anon Meeting - "Our Common Welfare"
DESCRIPTION:Meets on Wednesdays from 7-8 PM in the classroom. Contact Cathy B\, 360-600-1949\, for further information.
URL:https://cslbellingham.org/event/al-anon-meeting-our-common-welfare-2-2/2030-09-25/
LOCATION:Classroom – Center for Spiritual Living Bellingham\, 2224 Yew Street Road\, Bellingham\, WA\, 98229\, United States
CATEGORIES:Outside Event
ATTACH;FMTTYPE=image/jpeg:https://cslbellingham.org/wp-content/uploads/2024/01/Our-Common-Welfare.jpg
ORGANIZER;CN="CSL Bellingham Office":MAILTO:info@cslbellingham.org
GEO:48.7216949;-122.442241
X-APPLE-STRUCTURED-LOCATION;VALUE=URI;X-ADDRESS=Classroom – Center for Spiritual Living Bellingham 2224 Yew Street Road Bellingham WA 98229 United States;X-APPLE-RADIUS=500;X-TITLE=2224 Yew Street Road:geo:-122.442241,48.7216949
END:VEVENT
BEGIN:VEVENT
DTSTART;TZID=UTC:20300926T183000
DTEND;TZID=UTC:20300926T203000
DTSTAMP:20260424T070417
CREATED:20250412T142223Z
LAST-MODIFIED:20250412T142224Z
UID:10019258-1916677800-1916685000@cslbellingham.org
SUMMARY:Thursday Reiki Share
DESCRIPTION:Please join us in the CSL Office on 2nd and 4th Thursdays\, 6:30 – 8:30\, for a Reiki share. We will have a short meditation followed by a short attunement\, a quick explanation of the Reiki principles\, and then group healing\, during which each person takes turns receiving healing hands from the group. It is for first-timers\, experienced Reiki teachers\, and anyone in-between. You may find that it is the most peaceful and calming part of your week. For further information\, contact Jeremy at 360-348-0018.
URL:https://cslbellingham.org/event/reiki-share-2/2030-09-26/
LOCATION:Office – Center for Spiritual Living Bellingham\, 2224 Yew Street Road\, Bellingham\, WA
CATEGORIES:Outside Event
ATTACH;FMTTYPE=image/jpeg:https://cslbellingham.org/wp-content/uploads/2022/10/reiki_share.jpeg
ORGANIZER;CN="CSL Bellingham Office":MAILTO:info@cslbellingham.org
GEO:48.7216949;-122.442241
X-APPLE-STRUCTURED-LOCATION;VALUE=URI;X-ADDRESS=Office – Center for Spiritual Living Bellingham 2224 Yew Street Road Bellingham WA;X-APPLE-RADIUS=500;X-TITLE=2224 Yew Street Road:geo:-122.442241,48.7216949
END:VEVENT
BEGIN:VEVENT
DTSTART;TZID=UTC:20300930T180000
DTEND;TZID=UTC:20300930T193000
DTSTAMP:20260424T070417
CREATED:20240518T170121Z
LAST-MODIFIED:20240518T170124Z
UID:10019265-1917021600-1917027000@cslbellingham.org
SUMMARY:Woodside Sangha - in person and via Zoom
DESCRIPTION:This Buddhist meditation group gathers on Monday evenings (in-person and via Zoom) at 5:45 for those in person practicing walking meditation or 6:00 for those on Zoom.  Meditation ends around 7:15 PM. For further information\, please contact Andrea Asebedo at woodsidesangha@gmail.com. You are very welcome to attend!
URL:https://cslbellingham.org/event/woodside-sangha-2020-05-04-2020-06-29-2021-10-25-7-2-2/2030-09-30/
LOCATION:2224 Yew Street Road\, Bellingham\, WA\, 98229\, United States
CATEGORIES:Outside Event
ATTACH;FMTTYPE=image/png:https://cslbellingham.org/wp-content/uploads/2024/04/Buddhist-meditation.png
END:VEVENT
END:VCALENDAR