BEGIN:VCALENDAR
VERSION:2.0
PRODID:-//Center for Spiritual Living Bellingham - ECPv6.15.20//NONSGML v1.0//EN
CALSCALE:GREGORIAN
METHOD:PUBLISH
X-ORIGINAL-URL:https://cslbellingham.org
X-WR-CALDESC:Events for Center for Spiritual Living Bellingham
REFRESH-INTERVAL;VALUE=DURATION:PT1H
X-Robots-Tag:noindex
X-PUBLISHED-TTL:PT1H
BEGIN:VTIMEZONE
TZID:UTC
BEGIN:STANDARD
TZOFFSETFROM:+0000
TZOFFSETTO:+0000
TZNAME:UTC
DTSTART:20290101T000000
END:STANDARD
END:VTIMEZONE
BEGIN:VTIMEZONE
TZID:America/Los_Angeles
BEGIN:DAYLIGHT
TZOFFSETFROM:-0800
TZOFFSETTO:-0700
TZNAME:PDT
DTSTART:20290311T100000
END:DAYLIGHT
BEGIN:STANDARD
TZOFFSETFROM:-0700
TZOFFSETTO:-0800
TZNAME:PST
DTSTART:20291104T090000
END:STANDARD
BEGIN:DAYLIGHT
TZOFFSETFROM:-0800
TZOFFSETTO:-0700
TZNAME:PDT
DTSTART:20300310T100000
END:DAYLIGHT
BEGIN:STANDARD
TZOFFSETFROM:-0700
TZOFFSETTO:-0800
TZNAME:PST
DTSTART:20301103T090000
END:STANDARD
BEGIN:DAYLIGHT
TZOFFSETFROM:-0800
TZOFFSETTO:-0700
TZNAME:PDT
DTSTART:20310309T100000
END:DAYLIGHT
BEGIN:STANDARD
TZOFFSETFROM:-0700
TZOFFSETTO:-0800
TZNAME:PST
DTSTART:20311102T090000
END:STANDARD
END:VTIMEZONE
BEGIN:VEVENT
DTSTART;TZID=UTC:20300401T180000
DTEND;TZID=UTC:20300401T193000
DTSTAMP:20260423T235234
CREATED:20240518T170121Z
LAST-MODIFIED:20240518T170124Z
UID:10017727-1901296800-1901302200@cslbellingham.org
SUMMARY:Woodside Sangha - in person and via Zoom
DESCRIPTION:This Buddhist meditation group gathers on Monday evenings (in-person and via Zoom) at 5:45 for those in person practicing walking meditation or 6:00 for those on Zoom.  Meditation ends around 7:15 PM. For further information\, please contact Andrea Asebedo at woodsidesangha@gmail.com. You are very welcome to attend!
URL:https://cslbellingham.org/event/woodside-sangha-2020-05-04-2020-06-29-2021-10-25-7-2-2/2030-04-01/
LOCATION:2224 Yew Street Road\, Bellingham\, WA\, 98229\, United States
CATEGORIES:Outside Event
ATTACH;FMTTYPE=image/png:https://cslbellingham.org/wp-content/uploads/2024/04/Buddhist-meditation.png
END:VEVENT
BEGIN:VEVENT
DTSTART;TZID=America/Los_Angeles:20300403T190000
DTEND;TZID=America/Los_Angeles:20300403T200000
DTSTAMP:20260423T235234
CREATED:20250818T223014Z
LAST-MODIFIED:20250818T223015Z
UID:10017730-1901473200-1901476800@cslbellingham.org
SUMMARY:Al-Anon Meeting - "Our Common Welfare"
DESCRIPTION:Meets on Wednesdays from 7-8 PM in the classroom. Contact Cathy B\, 360-600-1949\, for further information.
URL:https://cslbellingham.org/event/al-anon-meeting-our-common-welfare-2-2/2030-04-03/
LOCATION:Classroom – Center for Spiritual Living Bellingham\, 2224 Yew Street Road\, Bellingham\, WA\, 98229\, United States
CATEGORIES:Outside Event
ATTACH;FMTTYPE=image/jpeg:https://cslbellingham.org/wp-content/uploads/2024/01/Our-Common-Welfare.jpg
ORGANIZER;CN="CSL Bellingham Office":MAILTO:info@cslbellingham.org
GEO:48.7216949;-122.442241
X-APPLE-STRUCTURED-LOCATION;VALUE=URI;X-ADDRESS=Classroom – Center for Spiritual Living Bellingham 2224 Yew Street Road Bellingham WA 98229 United States;X-APPLE-RADIUS=500;X-TITLE=2224 Yew Street Road:geo:-122.442241,48.7216949
END:VEVENT
BEGIN:VEVENT
DTSTART;TZID=UTC:20300408T180000
DTEND;TZID=UTC:20300408T193000
DTSTAMP:20260423T235234
CREATED:20240518T170121Z
LAST-MODIFIED:20240518T170124Z
UID:10017810-1901901600-1901907000@cslbellingham.org
SUMMARY:Woodside Sangha - in person and via Zoom
DESCRIPTION:This Buddhist meditation group gathers on Monday evenings (in-person and via Zoom) at 5:45 for those in person practicing walking meditation or 6:00 for those on Zoom.  Meditation ends around 7:15 PM. For further information\, please contact Andrea Asebedo at woodsidesangha@gmail.com. You are very welcome to attend!
URL:https://cslbellingham.org/event/woodside-sangha-2020-05-04-2020-06-29-2021-10-25-7-2-2/2030-04-08/
LOCATION:2224 Yew Street Road\, Bellingham\, WA\, 98229\, United States
CATEGORIES:Outside Event
ATTACH;FMTTYPE=image/png:https://cslbellingham.org/wp-content/uploads/2024/04/Buddhist-meditation.png
END:VEVENT
BEGIN:VEVENT
DTSTART;TZID=America/Los_Angeles:20300410T190000
DTEND;TZID=America/Los_Angeles:20300410T200000
DTSTAMP:20260423T235234
CREATED:20250818T223014Z
LAST-MODIFIED:20250818T223015Z
UID:10017738-1902078000-1902081600@cslbellingham.org
SUMMARY:Al-Anon Meeting - "Our Common Welfare"
DESCRIPTION:Meets on Wednesdays from 7-8 PM in the classroom. Contact Cathy B\, 360-600-1949\, for further information.
URL:https://cslbellingham.org/event/al-anon-meeting-our-common-welfare-2-2/2030-04-10/
LOCATION:Classroom – Center for Spiritual Living Bellingham\, 2224 Yew Street Road\, Bellingham\, WA\, 98229\, United States
CATEGORIES:Outside Event
ATTACH;FMTTYPE=image/jpeg:https://cslbellingham.org/wp-content/uploads/2024/01/Our-Common-Welfare.jpg
ORGANIZER;CN="CSL Bellingham Office":MAILTO:info@cslbellingham.org
GEO:48.7216949;-122.442241
X-APPLE-STRUCTURED-LOCATION;VALUE=URI;X-ADDRESS=Classroom – Center for Spiritual Living Bellingham 2224 Yew Street Road Bellingham WA 98229 United States;X-APPLE-RADIUS=500;X-TITLE=2224 Yew Street Road:geo:-122.442241,48.7216949
END:VEVENT
BEGIN:VEVENT
DTSTART;TZID=America/Los_Angeles:20300411T183000
DTEND;TZID=America/Los_Angeles:20300411T203000
DTSTAMP:20260423T235234
CREATED:20230510T134917Z
LAST-MODIFIED:20230510T135055Z
UID:10017887-1902162600-1902169800@cslbellingham.org
SUMMARY:Thursday Reiki Share
DESCRIPTION:Please join us in the CSL Office on 2nd and 4th Thursdays\, 6:30 – 8:30\, for a Reiki share. We will have a short meditation followed by a short attunement\, a quick explanation of the Reiki principles\, and then group healing\, during which each person takes turns receiving healing hands from the group. It is for first-timers\, experienced Reiki teachers\, and anyone in-between. You may find that it is the most peaceful and calming part of your week. I know I do. We look forward to sharing it with you. For further information\, contact Jeremy at 360-348-0018. Gassho 🙏
URL:https://cslbellingham.org/event/thursday-reiki-share/2030-04-11/
LOCATION:Office – Center for Spiritual Living Bellingham\, 2224 Yew Street Road\, Bellingham\, WA
CATEGORIES:Outside Event
ORGANIZER;CN="CSL Bellingham Office":MAILTO:info@cslbellingham.org
GEO:48.7216949;-122.442241
X-APPLE-STRUCTURED-LOCATION;VALUE=URI;X-ADDRESS=Office – Center for Spiritual Living Bellingham 2224 Yew Street Road Bellingham WA;X-APPLE-RADIUS=500;X-TITLE=2224 Yew Street Road:geo:-122.442241,48.7216949
END:VEVENT
BEGIN:VEVENT
DTSTART;TZID=UTC:20300415T180000
DTEND;TZID=UTC:20300415T193000
DTSTAMP:20260423T235234
CREATED:20240518T170121Z
LAST-MODIFIED:20240518T170124Z
UID:10017832-1902506400-1902511800@cslbellingham.org
SUMMARY:Woodside Sangha - in person and via Zoom
DESCRIPTION:This Buddhist meditation group gathers on Monday evenings (in-person and via Zoom) at 5:45 for those in person practicing walking meditation or 6:00 for those on Zoom.  Meditation ends around 7:15 PM. For further information\, please contact Andrea Asebedo at woodsidesangha@gmail.com. You are very welcome to attend!
URL:https://cslbellingham.org/event/woodside-sangha-2020-05-04-2020-06-29-2021-10-25-7-2-2/2030-04-15/
LOCATION:2224 Yew Street Road\, Bellingham\, WA\, 98229\, United States
CATEGORIES:Outside Event
ATTACH;FMTTYPE=image/png:https://cslbellingham.org/wp-content/uploads/2024/04/Buddhist-meditation.png
END:VEVENT
BEGIN:VEVENT
DTSTART;TZID=America/Los_Angeles:20300417T190000
DTEND;TZID=America/Los_Angeles:20300417T200000
DTSTAMP:20260423T235234
CREATED:20250818T223014Z
LAST-MODIFIED:20250818T223015Z
UID:10018855-1902682800-1902686400@cslbellingham.org
SUMMARY:Al-Anon Meeting - "Our Common Welfare"
DESCRIPTION:Meets on Wednesdays from 7-8 PM in the classroom. Contact Cathy B\, 360-600-1949\, for further information.
URL:https://cslbellingham.org/event/al-anon-meeting-our-common-welfare-2-2/2030-04-17/
LOCATION:Classroom – Center for Spiritual Living Bellingham\, 2224 Yew Street Road\, Bellingham\, WA\, 98229\, United States
CATEGORIES:Outside Event
ATTACH;FMTTYPE=image/jpeg:https://cslbellingham.org/wp-content/uploads/2024/01/Our-Common-Welfare.jpg
ORGANIZER;CN="CSL Bellingham Office":MAILTO:info@cslbellingham.org
GEO:48.7216949;-122.442241
X-APPLE-STRUCTURED-LOCATION;VALUE=URI;X-ADDRESS=Classroom – Center for Spiritual Living Bellingham 2224 Yew Street Road Bellingham WA 98229 United States;X-APPLE-RADIUS=500;X-TITLE=2224 Yew Street Road:geo:-122.442241,48.7216949
END:VEVENT
BEGIN:VEVENT
DTSTART;TZID=UTC:20300422T180000
DTEND;TZID=UTC:20300422T193000
DTSTAMP:20260423T235234
CREATED:20240518T170121Z
LAST-MODIFIED:20240518T170124Z
UID:10017856-1903111200-1903116600@cslbellingham.org
SUMMARY:Woodside Sangha - in person and via Zoom
DESCRIPTION:This Buddhist meditation group gathers on Monday evenings (in-person and via Zoom) at 5:45 for those in person practicing walking meditation or 6:00 for those on Zoom.  Meditation ends around 7:15 PM. For further information\, please contact Andrea Asebedo at woodsidesangha@gmail.com. You are very welcome to attend!
URL:https://cslbellingham.org/event/woodside-sangha-2020-05-04-2020-06-29-2021-10-25-7-2-2/2030-04-22/
LOCATION:2224 Yew Street Road\, Bellingham\, WA\, 98229\, United States
CATEGORIES:Outside Event
ATTACH;FMTTYPE=image/png:https://cslbellingham.org/wp-content/uploads/2024/04/Buddhist-meditation.png
END:VEVENT
BEGIN:VEVENT
DTSTART;TZID=America/Los_Angeles:20300424T190000
DTEND;TZID=America/Los_Angeles:20300424T200000
DTSTAMP:20260423T235234
CREATED:20250818T223014Z
LAST-MODIFIED:20250818T223015Z
UID:10018856-1903287600-1903291200@cslbellingham.org
SUMMARY:Al-Anon Meeting - "Our Common Welfare"
DESCRIPTION:Meets on Wednesdays from 7-8 PM in the classroom. Contact Cathy B\, 360-600-1949\, for further information.
URL:https://cslbellingham.org/event/al-anon-meeting-our-common-welfare-2-2/2030-04-24/
LOCATION:Classroom – Center for Spiritual Living Bellingham\, 2224 Yew Street Road\, Bellingham\, WA\, 98229\, United States
CATEGORIES:Outside Event
ATTACH;FMTTYPE=image/jpeg:https://cslbellingham.org/wp-content/uploads/2024/01/Our-Common-Welfare.jpg
ORGANIZER;CN="CSL Bellingham Office":MAILTO:info@cslbellingham.org
GEO:48.7216949;-122.442241
X-APPLE-STRUCTURED-LOCATION;VALUE=URI;X-ADDRESS=Classroom – Center for Spiritual Living Bellingham 2224 Yew Street Road Bellingham WA 98229 United States;X-APPLE-RADIUS=500;X-TITLE=2224 Yew Street Road:geo:-122.442241,48.7216949
END:VEVENT
BEGIN:VEVENT
DTSTART;TZID=UTC:20300425T183000
DTEND;TZID=UTC:20300425T203000
DTSTAMP:20260423T235234
CREATED:20250412T142223Z
LAST-MODIFIED:20250412T142224Z
UID:10018880-1903372200-1903379400@cslbellingham.org
SUMMARY:Thursday Reiki Share
DESCRIPTION:Please join us in the CSL Office on 2nd and 4th Thursdays\, 6:30 – 8:30\, for a Reiki share. We will have a short meditation followed by a short attunement\, a quick explanation of the Reiki principles\, and then group healing\, during which each person takes turns receiving healing hands from the group. It is for first-timers\, experienced Reiki teachers\, and anyone in-between. You may find that it is the most peaceful and calming part of your week. For further information\, contact Jeremy at 360-348-0018.
URL:https://cslbellingham.org/event/reiki-share-2/2030-04-25/
LOCATION:Office – Center for Spiritual Living Bellingham\, 2224 Yew Street Road\, Bellingham\, WA
CATEGORIES:Outside Event
ATTACH;FMTTYPE=image/jpeg:https://cslbellingham.org/wp-content/uploads/2022/10/reiki_share.jpeg
ORGANIZER;CN="CSL Bellingham Office":MAILTO:info@cslbellingham.org
GEO:48.7216949;-122.442241
X-APPLE-STRUCTURED-LOCATION;VALUE=URI;X-ADDRESS=Office – Center for Spiritual Living Bellingham 2224 Yew Street Road Bellingham WA;X-APPLE-RADIUS=500;X-TITLE=2224 Yew Street Road:geo:-122.442241,48.7216949
END:VEVENT
BEGIN:VEVENT
DTSTART;TZID=UTC:20300429T180000
DTEND;TZID=UTC:20300429T193000
DTSTAMP:20260423T235234
CREATED:20240518T170121Z
LAST-MODIFIED:20240518T170124Z
UID:10017869-1903716000-1903721400@cslbellingham.org
SUMMARY:Woodside Sangha - in person and via Zoom
DESCRIPTION:This Buddhist meditation group gathers on Monday evenings (in-person and via Zoom) at 5:45 for those in person practicing walking meditation or 6:00 for those on Zoom.  Meditation ends around 7:15 PM. For further information\, please contact Andrea Asebedo at woodsidesangha@gmail.com. You are very welcome to attend!
URL:https://cslbellingham.org/event/woodside-sangha-2020-05-04-2020-06-29-2021-10-25-7-2-2/2030-04-29/
LOCATION:2224 Yew Street Road\, Bellingham\, WA\, 98229\, United States
CATEGORIES:Outside Event
ATTACH;FMTTYPE=image/png:https://cslbellingham.org/wp-content/uploads/2024/04/Buddhist-meditation.png
END:VEVENT
END:VCALENDAR