BEGIN:VCALENDAR
VERSION:2.0
PRODID:-//Center for Spiritual Living Bellingham - ECPv6.15.20//NONSGML v1.0//EN
CALSCALE:GREGORIAN
METHOD:PUBLISH
X-ORIGINAL-URL:https://cslbellingham.org
X-WR-CALDESC:Events for Center for Spiritual Living Bellingham
REFRESH-INTERVAL;VALUE=DURATION:PT1H
X-Robots-Tag:noindex
X-PUBLISHED-TTL:PT1H
BEGIN:VTIMEZONE
TZID:UTC
BEGIN:STANDARD
TZOFFSETFROM:+0000
TZOFFSETTO:+0000
TZNAME:UTC
DTSTART:20280101T000000
END:STANDARD
END:VTIMEZONE
BEGIN:VTIMEZONE
TZID:America/Los_Angeles
BEGIN:DAYLIGHT
TZOFFSETFROM:-0800
TZOFFSETTO:-0700
TZNAME:PDT
DTSTART:20280312T100000
END:DAYLIGHT
BEGIN:STANDARD
TZOFFSETFROM:-0700
TZOFFSETTO:-0800
TZNAME:PST
DTSTART:20281105T090000
END:STANDARD
BEGIN:DAYLIGHT
TZOFFSETFROM:-0800
TZOFFSETTO:-0700
TZNAME:PDT
DTSTART:20290311T100000
END:DAYLIGHT
BEGIN:STANDARD
TZOFFSETFROM:-0700
TZOFFSETTO:-0800
TZNAME:PST
DTSTART:20291104T090000
END:STANDARD
BEGIN:DAYLIGHT
TZOFFSETFROM:-0800
TZOFFSETTO:-0700
TZNAME:PDT
DTSTART:20300310T100000
END:DAYLIGHT
BEGIN:STANDARD
TZOFFSETFROM:-0700
TZOFFSETTO:-0800
TZNAME:PST
DTSTART:20301103T090000
END:STANDARD
END:VTIMEZONE
BEGIN:VEVENT
DTSTART;TZID=UTC:20290101T180000
DTEND;TZID=UTC:20290101T193000
DTSTAMP:20260420T055132
CREATED:20240518T170121Z
LAST-MODIFIED:20240518T170124Z
UID:10015482-1861984800-1861990200@cslbellingham.org
SUMMARY:Woodside Sangha - in person and via Zoom
DESCRIPTION:This Buddhist meditation group gathers on Monday evenings (in-person and via Zoom) at 5:45 for those in person practicing walking meditation or 6:00 for those on Zoom.  Meditation ends around 7:15 PM. For further information\, please contact Andrea Asebedo at woodsidesangha@gmail.com. You are very welcome to attend!
URL:https://cslbellingham.org/event/woodside-sangha-2020-05-04-2020-06-29-2021-10-25-7-2-2/2029-01-01/
LOCATION:2224 Yew Street Road\, Bellingham\, WA\, 98229\, United States
CATEGORIES:Outside Event
ATTACH;FMTTYPE=image/png:https://cslbellingham.org/wp-content/uploads/2024/04/Buddhist-meditation.png
END:VEVENT
BEGIN:VEVENT
DTSTART;TZID=America/Los_Angeles:20290103T190000
DTEND;TZID=America/Los_Angeles:20290103T200000
DTSTAMP:20260420T055132
CREATED:20250818T223014Z
LAST-MODIFIED:20250818T223015Z
UID:10014788-1862161200-1862164800@cslbellingham.org
SUMMARY:Al-Anon Meeting - "Our Common Welfare"
DESCRIPTION:Meets on Wednesdays from 7-8 PM in the classroom. Contact Cathy B\, 360-600-1949\, for further information.
URL:https://cslbellingham.org/event/al-anon-meeting-our-common-welfare-2-2/2029-01-03/
LOCATION:Classroom – Center for Spiritual Living Bellingham\, 2224 Yew Street Road\, Bellingham\, WA\, 98229\, United States
CATEGORIES:Outside Event
ATTACH;FMTTYPE=image/jpeg:https://cslbellingham.org/wp-content/uploads/2024/01/Our-Common-Welfare.jpg
ORGANIZER;CN="CSL Bellingham Office":MAILTO:info@cslbellingham.org
GEO:48.7216949;-122.442241
X-APPLE-STRUCTURED-LOCATION;VALUE=URI;X-ADDRESS=Classroom – Center for Spiritual Living Bellingham 2224 Yew Street Road Bellingham WA 98229 United States;X-APPLE-RADIUS=500;X-TITLE=2224 Yew Street Road:geo:-122.442241,48.7216949
END:VEVENT
BEGIN:VEVENT
DTSTART;TZID=UTC:20290108T180000
DTEND;TZID=UTC:20290108T193000
DTSTAMP:20260420T055132
CREATED:20240518T170121Z
LAST-MODIFIED:20240518T170124Z
UID:10015483-1862589600-1862595000@cslbellingham.org
SUMMARY:Woodside Sangha - in person and via Zoom
DESCRIPTION:This Buddhist meditation group gathers on Monday evenings (in-person and via Zoom) at 5:45 for those in person practicing walking meditation or 6:00 for those on Zoom.  Meditation ends around 7:15 PM. For further information\, please contact Andrea Asebedo at woodsidesangha@gmail.com. You are very welcome to attend!
URL:https://cslbellingham.org/event/woodside-sangha-2020-05-04-2020-06-29-2021-10-25-7-2-2/2029-01-08/
LOCATION:2224 Yew Street Road\, Bellingham\, WA\, 98229\, United States
CATEGORIES:Outside Event
ATTACH;FMTTYPE=image/png:https://cslbellingham.org/wp-content/uploads/2024/04/Buddhist-meditation.png
END:VEVENT
BEGIN:VEVENT
DTSTART;TZID=America/Los_Angeles:20290110T190000
DTEND;TZID=America/Los_Angeles:20290110T200000
DTSTAMP:20260420T055132
CREATED:20250818T223014Z
LAST-MODIFIED:20250818T223015Z
UID:10014789-1862766000-1862769600@cslbellingham.org
SUMMARY:Al-Anon Meeting - "Our Common Welfare"
DESCRIPTION:Meets on Wednesdays from 7-8 PM in the classroom. Contact Cathy B\, 360-600-1949\, for further information.
URL:https://cslbellingham.org/event/al-anon-meeting-our-common-welfare-2-2/2029-01-10/
LOCATION:Classroom – Center for Spiritual Living Bellingham\, 2224 Yew Street Road\, Bellingham\, WA\, 98229\, United States
CATEGORIES:Outside Event
ATTACH;FMTTYPE=image/jpeg:https://cslbellingham.org/wp-content/uploads/2024/01/Our-Common-Welfare.jpg
ORGANIZER;CN="CSL Bellingham Office":MAILTO:info@cslbellingham.org
GEO:48.7216949;-122.442241
X-APPLE-STRUCTURED-LOCATION;VALUE=URI;X-ADDRESS=Classroom – Center for Spiritual Living Bellingham 2224 Yew Street Road Bellingham WA 98229 United States;X-APPLE-RADIUS=500;X-TITLE=2224 Yew Street Road:geo:-122.442241,48.7216949
END:VEVENT
BEGIN:VEVENT
DTSTART;TZID=America/Los_Angeles:20290111T183000
DTEND;TZID=America/Los_Angeles:20290111T203000
DTSTAMP:20260420T055132
CREATED:20230510T134917Z
LAST-MODIFIED:20230510T135055Z
UID:10014888-1862850600-1862857800@cslbellingham.org
SUMMARY:Thursday Reiki Share
DESCRIPTION:Please join us in the CSL Office on 2nd and 4th Thursdays\, 6:30 – 8:30\, for a Reiki share. We will have a short meditation followed by a short attunement\, a quick explanation of the Reiki principles\, and then group healing\, during which each person takes turns receiving healing hands from the group. It is for first-timers\, experienced Reiki teachers\, and anyone in-between. You may find that it is the most peaceful and calming part of your week. I know I do. We look forward to sharing it with you. For further information\, contact Jeremy at 360-348-0018. Gassho 🙏
URL:https://cslbellingham.org/event/thursday-reiki-share/2029-01-11/
LOCATION:Office – Center for Spiritual Living Bellingham\, 2224 Yew Street Road\, Bellingham\, WA
CATEGORIES:Outside Event
ORGANIZER;CN="CSL Bellingham Office":MAILTO:info@cslbellingham.org
GEO:48.7216949;-122.442241
X-APPLE-STRUCTURED-LOCATION;VALUE=URI;X-ADDRESS=Office – Center for Spiritual Living Bellingham 2224 Yew Street Road Bellingham WA;X-APPLE-RADIUS=500;X-TITLE=2224 Yew Street Road:geo:-122.442241,48.7216949
END:VEVENT
BEGIN:VEVENT
DTSTART;TZID=UTC:20290115T180000
DTEND;TZID=UTC:20290115T193000
DTSTAMP:20260420T055132
CREATED:20240518T170121Z
LAST-MODIFIED:20240518T170124Z
UID:10015484-1863194400-1863199800@cslbellingham.org
SUMMARY:Woodside Sangha - in person and via Zoom
DESCRIPTION:This Buddhist meditation group gathers on Monday evenings (in-person and via Zoom) at 5:45 for those in person practicing walking meditation or 6:00 for those on Zoom.  Meditation ends around 7:15 PM. For further information\, please contact Andrea Asebedo at woodsidesangha@gmail.com. You are very welcome to attend!
URL:https://cslbellingham.org/event/woodside-sangha-2020-05-04-2020-06-29-2021-10-25-7-2-2/2029-01-15/
LOCATION:2224 Yew Street Road\, Bellingham\, WA\, 98229\, United States
CATEGORIES:Outside Event
ATTACH;FMTTYPE=image/png:https://cslbellingham.org/wp-content/uploads/2024/04/Buddhist-meditation.png
END:VEVENT
BEGIN:VEVENT
DTSTART;TZID=America/Los_Angeles:20290117T190000
DTEND;TZID=America/Los_Angeles:20290117T200000
DTSTAMP:20260420T055132
CREATED:20250818T223014Z
LAST-MODIFIED:20250818T223015Z
UID:10014790-1863370800-1863374400@cslbellingham.org
SUMMARY:Al-Anon Meeting - "Our Common Welfare"
DESCRIPTION:Meets on Wednesdays from 7-8 PM in the classroom. Contact Cathy B\, 360-600-1949\, for further information.
URL:https://cslbellingham.org/event/al-anon-meeting-our-common-welfare-2-2/2029-01-17/
LOCATION:Classroom – Center for Spiritual Living Bellingham\, 2224 Yew Street Road\, Bellingham\, WA\, 98229\, United States
CATEGORIES:Outside Event
ATTACH;FMTTYPE=image/jpeg:https://cslbellingham.org/wp-content/uploads/2024/01/Our-Common-Welfare.jpg
ORGANIZER;CN="CSL Bellingham Office":MAILTO:info@cslbellingham.org
GEO:48.7216949;-122.442241
X-APPLE-STRUCTURED-LOCATION;VALUE=URI;X-ADDRESS=Classroom – Center for Spiritual Living Bellingham 2224 Yew Street Road Bellingham WA 98229 United States;X-APPLE-RADIUS=500;X-TITLE=2224 Yew Street Road:geo:-122.442241,48.7216949
END:VEVENT
BEGIN:VEVENT
DTSTART;TZID=UTC:20290122T180000
DTEND;TZID=UTC:20290122T193000
DTSTAMP:20260420T055132
CREATED:20240518T170121Z
LAST-MODIFIED:20240518T170124Z
UID:10015485-1863799200-1863804600@cslbellingham.org
SUMMARY:Woodside Sangha - in person and via Zoom
DESCRIPTION:This Buddhist meditation group gathers on Monday evenings (in-person and via Zoom) at 5:45 for those in person practicing walking meditation or 6:00 for those on Zoom.  Meditation ends around 7:15 PM. For further information\, please contact Andrea Asebedo at woodsidesangha@gmail.com. You are very welcome to attend!
URL:https://cslbellingham.org/event/woodside-sangha-2020-05-04-2020-06-29-2021-10-25-7-2-2/2029-01-22/
LOCATION:2224 Yew Street Road\, Bellingham\, WA\, 98229\, United States
CATEGORIES:Outside Event
ATTACH;FMTTYPE=image/png:https://cslbellingham.org/wp-content/uploads/2024/04/Buddhist-meditation.png
END:VEVENT
BEGIN:VEVENT
DTSTART;TZID=America/Los_Angeles:20290124T190000
DTEND;TZID=America/Los_Angeles:20290124T200000
DTSTAMP:20260420T055132
CREATED:20250818T223014Z
LAST-MODIFIED:20250818T223015Z
UID:10015853-1863975600-1863979200@cslbellingham.org
SUMMARY:Al-Anon Meeting - "Our Common Welfare"
DESCRIPTION:Meets on Wednesdays from 7-8 PM in the classroom. Contact Cathy B\, 360-600-1949\, for further information.
URL:https://cslbellingham.org/event/al-anon-meeting-our-common-welfare-2-2/2029-01-24/
LOCATION:Classroom – Center for Spiritual Living Bellingham\, 2224 Yew Street Road\, Bellingham\, WA\, 98229\, United States
CATEGORIES:Outside Event
ATTACH;FMTTYPE=image/jpeg:https://cslbellingham.org/wp-content/uploads/2024/01/Our-Common-Welfare.jpg
ORGANIZER;CN="CSL Bellingham Office":MAILTO:info@cslbellingham.org
GEO:48.7216949;-122.442241
X-APPLE-STRUCTURED-LOCATION;VALUE=URI;X-ADDRESS=Classroom – Center for Spiritual Living Bellingham 2224 Yew Street Road Bellingham WA 98229 United States;X-APPLE-RADIUS=500;X-TITLE=2224 Yew Street Road:geo:-122.442241,48.7216949
END:VEVENT
BEGIN:VEVENT
DTSTART;TZID=UTC:20290125T183000
DTEND;TZID=UTC:20290125T203000
DTSTAMP:20260420T055132
CREATED:20250412T142223Z
LAST-MODIFIED:20250412T142224Z
UID:10014876-1864060200-1864067400@cslbellingham.org
SUMMARY:Thursday Reiki Share
DESCRIPTION:Please join us in the CSL Office on 2nd and 4th Thursdays\, 6:30 – 8:30\, for a Reiki share. We will have a short meditation followed by a short attunement\, a quick explanation of the Reiki principles\, and then group healing\, during which each person takes turns receiving healing hands from the group. It is for first-timers\, experienced Reiki teachers\, and anyone in-between. You may find that it is the most peaceful and calming part of your week. For further information\, contact Jeremy at 360-348-0018.
URL:https://cslbellingham.org/event/reiki-share-2/2029-01-25/
LOCATION:Office – Center for Spiritual Living Bellingham\, 2224 Yew Street Road\, Bellingham\, WA
CATEGORIES:Outside Event
ATTACH;FMTTYPE=image/jpeg:https://cslbellingham.org/wp-content/uploads/2022/10/reiki_share.jpeg
ORGANIZER;CN="CSL Bellingham Office":MAILTO:info@cslbellingham.org
GEO:48.7216949;-122.442241
X-APPLE-STRUCTURED-LOCATION;VALUE=URI;X-ADDRESS=Office – Center for Spiritual Living Bellingham 2224 Yew Street Road Bellingham WA;X-APPLE-RADIUS=500;X-TITLE=2224 Yew Street Road:geo:-122.442241,48.7216949
END:VEVENT
BEGIN:VEVENT
DTSTART;TZID=UTC:20290129T180000
DTEND;TZID=UTC:20290129T193000
DTSTAMP:20260420T055132
CREATED:20240518T170121Z
LAST-MODIFIED:20240518T170124Z
UID:10015486-1864404000-1864409400@cslbellingham.org
SUMMARY:Woodside Sangha - in person and via Zoom
DESCRIPTION:This Buddhist meditation group gathers on Monday evenings (in-person and via Zoom) at 5:45 for those in person practicing walking meditation or 6:00 for those on Zoom.  Meditation ends around 7:15 PM. For further information\, please contact Andrea Asebedo at woodsidesangha@gmail.com. You are very welcome to attend!
URL:https://cslbellingham.org/event/woodside-sangha-2020-05-04-2020-06-29-2021-10-25-7-2-2/2029-01-29/
LOCATION:2224 Yew Street Road\, Bellingham\, WA\, 98229\, United States
CATEGORIES:Outside Event
ATTACH;FMTTYPE=image/png:https://cslbellingham.org/wp-content/uploads/2024/04/Buddhist-meditation.png
END:VEVENT
BEGIN:VEVENT
DTSTART;TZID=America/Los_Angeles:20290131T190000
DTEND;TZID=America/Los_Angeles:20290131T200000
DTSTAMP:20260420T055132
CREATED:20250818T223014Z
LAST-MODIFIED:20250818T223015Z
UID:10015854-1864580400-1864584000@cslbellingham.org
SUMMARY:Al-Anon Meeting - "Our Common Welfare"
DESCRIPTION:Meets on Wednesdays from 7-8 PM in the classroom. Contact Cathy B\, 360-600-1949\, for further information.
URL:https://cslbellingham.org/event/al-anon-meeting-our-common-welfare-2-2/2029-01-31/
LOCATION:Classroom – Center for Spiritual Living Bellingham\, 2224 Yew Street Road\, Bellingham\, WA\, 98229\, United States
CATEGORIES:Outside Event
ATTACH;FMTTYPE=image/jpeg:https://cslbellingham.org/wp-content/uploads/2024/01/Our-Common-Welfare.jpg
ORGANIZER;CN="CSL Bellingham Office":MAILTO:info@cslbellingham.org
GEO:48.7216949;-122.442241
X-APPLE-STRUCTURED-LOCATION;VALUE=URI;X-ADDRESS=Classroom – Center for Spiritual Living Bellingham 2224 Yew Street Road Bellingham WA 98229 United States;X-APPLE-RADIUS=500;X-TITLE=2224 Yew Street Road:geo:-122.442241,48.7216949
END:VEVENT
END:VCALENDAR