BEGIN:VCALENDAR
VERSION:2.0
PRODID:-//Center for Spiritual Living Bellingham - ECPv6.15.20//NONSGML v1.0//EN
CALSCALE:GREGORIAN
METHOD:PUBLISH
X-WR-CALNAME:Center for Spiritual Living Bellingham
X-ORIGINAL-URL:https://cslbellingham.org
X-WR-CALDESC:Events for Center for Spiritual Living Bellingham
REFRESH-INTERVAL;VALUE=DURATION:PT1H
X-Robots-Tag:noindex
X-PUBLISHED-TTL:PT1H
BEGIN:VTIMEZONE
TZID:UTC
BEGIN:STANDARD
TZOFFSETFROM:+0000
TZOFFSETTO:+0000
TZNAME:UTC
DTSTART:20270101T000000
END:STANDARD
END:VTIMEZONE
BEGIN:VTIMEZONE
TZID:America/Los_Angeles
BEGIN:DAYLIGHT
TZOFFSETFROM:-0800
TZOFFSETTO:-0700
TZNAME:PDT
DTSTART:20270314T100000
END:DAYLIGHT
BEGIN:STANDARD
TZOFFSETFROM:-0700
TZOFFSETTO:-0800
TZNAME:PST
DTSTART:20271107T090000
END:STANDARD
BEGIN:DAYLIGHT
TZOFFSETFROM:-0800
TZOFFSETTO:-0700
TZNAME:PDT
DTSTART:20280312T100000
END:DAYLIGHT
BEGIN:STANDARD
TZOFFSETFROM:-0700
TZOFFSETTO:-0800
TZNAME:PST
DTSTART:20281105T090000
END:STANDARD
BEGIN:DAYLIGHT
TZOFFSETFROM:-0800
TZOFFSETTO:-0700
TZNAME:PDT
DTSTART:20290311T100000
END:DAYLIGHT
BEGIN:STANDARD
TZOFFSETFROM:-0700
TZOFFSETTO:-0800
TZNAME:PST
DTSTART:20291104T090000
END:STANDARD
END:VTIMEZONE
BEGIN:VEVENT
DTSTART;TZID=UTC:20280605T180000
DTEND;TZID=UTC:20280605T193000
DTSTAMP:20260419T061145
CREATED:20240518T170121Z
LAST-MODIFIED:20240518T170124Z
UID:10012620-1843840800-1843846200@cslbellingham.org
SUMMARY:Woodside Sangha - in person and via Zoom
DESCRIPTION:This Buddhist meditation group gathers on Monday evenings (in-person and via Zoom) at 5:45 for those in person practicing walking meditation or 6:00 for those on Zoom.  Meditation ends around 7:15 PM. For further information\, please contact Andrea Asebedo at woodsidesangha@gmail.com. You are very welcome to attend!
URL:https://cslbellingham.org/event/woodside-sangha-2020-05-04-2020-06-29-2021-10-25-7-2-2/2028-06-05/
LOCATION:2224 Yew Street Road\, Bellingham\, WA\, 98229\, United States
CATEGORIES:Outside Event
ATTACH;FMTTYPE=image/png:https://cslbellingham.org/wp-content/uploads/2024/04/Buddhist-meditation.png
END:VEVENT
BEGIN:VEVENT
DTSTART;TZID=America/Los_Angeles:20280607T190000
DTEND;TZID=America/Los_Angeles:20280607T200000
DTSTAMP:20260419T061145
CREATED:20250818T223014Z
LAST-MODIFIED:20250818T223015Z
UID:10014758-1844017200-1844020800@cslbellingham.org
SUMMARY:Al-Anon Meeting - "Our Common Welfare"
DESCRIPTION:Meets on Wednesdays from 7-8 PM in the classroom. Contact Cathy B\, 360-600-1949\, for further information.
URL:https://cslbellingham.org/event/al-anon-meeting-our-common-welfare-2-2/2028-06-07/
LOCATION:Classroom – Center for Spiritual Living Bellingham\, 2224 Yew Street Road\, Bellingham\, WA\, 98229\, United States
CATEGORIES:Outside Event
ATTACH;FMTTYPE=image/jpeg:https://cslbellingham.org/wp-content/uploads/2024/01/Our-Common-Welfare.jpg
ORGANIZER;CN="CSL Bellingham Office":MAILTO:info@cslbellingham.org
GEO:48.7216949;-122.442241
X-APPLE-STRUCTURED-LOCATION;VALUE=URI;X-ADDRESS=Classroom – Center for Spiritual Living Bellingham 2224 Yew Street Road Bellingham WA 98229 United States;X-APPLE-RADIUS=500;X-TITLE=2224 Yew Street Road:geo:-122.442241,48.7216949
END:VEVENT
BEGIN:VEVENT
DTSTART;TZID=America/Los_Angeles:20280608T183000
DTEND;TZID=America/Los_Angeles:20280608T203000
DTSTAMP:20260419T061145
CREATED:20230510T134917Z
LAST-MODIFIED:20230510T135055Z
UID:10013374-1844101800-1844109000@cslbellingham.org
SUMMARY:Thursday Reiki Share
DESCRIPTION:Please join us in the CSL Office on 2nd and 4th Thursdays\, 6:30 – 8:30\, for a Reiki share. We will have a short meditation followed by a short attunement\, a quick explanation of the Reiki principles\, and then group healing\, during which each person takes turns receiving healing hands from the group. It is for first-timers\, experienced Reiki teachers\, and anyone in-between. You may find that it is the most peaceful and calming part of your week. I know I do. We look forward to sharing it with you. For further information\, contact Jeremy at 360-348-0018. Gassho 🙏
URL:https://cslbellingham.org/event/thursday-reiki-share/2028-06-08/
LOCATION:Office – Center for Spiritual Living Bellingham\, 2224 Yew Street Road\, Bellingham\, WA
CATEGORIES:Outside Event
ORGANIZER;CN="CSL Bellingham Office":MAILTO:info@cslbellingham.org
GEO:48.7216949;-122.442241
X-APPLE-STRUCTURED-LOCATION;VALUE=URI;X-ADDRESS=Office – Center for Spiritual Living Bellingham 2224 Yew Street Road Bellingham WA;X-APPLE-RADIUS=500;X-TITLE=2224 Yew Street Road:geo:-122.442241,48.7216949
END:VEVENT
BEGIN:VEVENT
DTSTART;TZID=UTC:20280612T180000
DTEND;TZID=UTC:20280612T193000
DTSTAMP:20260419T061145
CREATED:20240518T170121Z
LAST-MODIFIED:20240518T170124Z
UID:10012686-1844445600-1844451000@cslbellingham.org
SUMMARY:Woodside Sangha - in person and via Zoom
DESCRIPTION:This Buddhist meditation group gathers on Monday evenings (in-person and via Zoom) at 5:45 for those in person practicing walking meditation or 6:00 for those on Zoom.  Meditation ends around 7:15 PM. For further information\, please contact Andrea Asebedo at woodsidesangha@gmail.com. You are very welcome to attend!
URL:https://cslbellingham.org/event/woodside-sangha-2020-05-04-2020-06-29-2021-10-25-7-2-2/2028-06-12/
LOCATION:2224 Yew Street Road\, Bellingham\, WA\, 98229\, United States
CATEGORIES:Outside Event
ATTACH;FMTTYPE=image/png:https://cslbellingham.org/wp-content/uploads/2024/04/Buddhist-meditation.png
END:VEVENT
BEGIN:VEVENT
DTSTART;TZID=America/Los_Angeles:20280614T190000
DTEND;TZID=America/Los_Angeles:20280614T200000
DTSTAMP:20260419T061145
CREATED:20250818T223014Z
LAST-MODIFIED:20250818T223015Z
UID:10014759-1844622000-1844625600@cslbellingham.org
SUMMARY:Al-Anon Meeting - "Our Common Welfare"
DESCRIPTION:Meets on Wednesdays from 7-8 PM in the classroom. Contact Cathy B\, 360-600-1949\, for further information.
URL:https://cslbellingham.org/event/al-anon-meeting-our-common-welfare-2-2/2028-06-14/
LOCATION:Classroom – Center for Spiritual Living Bellingham\, 2224 Yew Street Road\, Bellingham\, WA\, 98229\, United States
CATEGORIES:Outside Event
ATTACH;FMTTYPE=image/jpeg:https://cslbellingham.org/wp-content/uploads/2024/01/Our-Common-Welfare.jpg
ORGANIZER;CN="CSL Bellingham Office":MAILTO:info@cslbellingham.org
GEO:48.7216949;-122.442241
X-APPLE-STRUCTURED-LOCATION;VALUE=URI;X-ADDRESS=Classroom – Center for Spiritual Living Bellingham 2224 Yew Street Road Bellingham WA 98229 United States;X-APPLE-RADIUS=500;X-TITLE=2224 Yew Street Road:geo:-122.442241,48.7216949
END:VEVENT
BEGIN:VEVENT
DTSTART;TZID=UTC:20280619T180000
DTEND;TZID=UTC:20280619T193000
DTSTAMP:20260419T061145
CREATED:20240518T170121Z
LAST-MODIFIED:20240518T170124Z
UID:10013236-1845050400-1845055800@cslbellingham.org
SUMMARY:Woodside Sangha - in person and via Zoom
DESCRIPTION:This Buddhist meditation group gathers on Monday evenings (in-person and via Zoom) at 5:45 for those in person practicing walking meditation or 6:00 for those on Zoom.  Meditation ends around 7:15 PM. For further information\, please contact Andrea Asebedo at woodsidesangha@gmail.com. You are very welcome to attend!
URL:https://cslbellingham.org/event/woodside-sangha-2020-05-04-2020-06-29-2021-10-25-7-2-2/2028-06-19/
LOCATION:2224 Yew Street Road\, Bellingham\, WA\, 98229\, United States
CATEGORIES:Outside Event
ATTACH;FMTTYPE=image/png:https://cslbellingham.org/wp-content/uploads/2024/04/Buddhist-meditation.png
END:VEVENT
BEGIN:VEVENT
DTSTART;TZID=America/Los_Angeles:20280621T190000
DTEND;TZID=America/Los_Angeles:20280621T200000
DTSTAMP:20260419T061145
CREATED:20250818T223014Z
LAST-MODIFIED:20250818T223015Z
UID:10014760-1845226800-1845230400@cslbellingham.org
SUMMARY:Al-Anon Meeting - "Our Common Welfare"
DESCRIPTION:Meets on Wednesdays from 7-8 PM in the classroom. Contact Cathy B\, 360-600-1949\, for further information.
URL:https://cslbellingham.org/event/al-anon-meeting-our-common-welfare-2-2/2028-06-21/
LOCATION:Classroom – Center for Spiritual Living Bellingham\, 2224 Yew Street Road\, Bellingham\, WA\, 98229\, United States
CATEGORIES:Outside Event
ATTACH;FMTTYPE=image/jpeg:https://cslbellingham.org/wp-content/uploads/2024/01/Our-Common-Welfare.jpg
ORGANIZER;CN="CSL Bellingham Office":MAILTO:info@cslbellingham.org
GEO:48.7216949;-122.442241
X-APPLE-STRUCTURED-LOCATION;VALUE=URI;X-ADDRESS=Classroom – Center for Spiritual Living Bellingham 2224 Yew Street Road Bellingham WA 98229 United States;X-APPLE-RADIUS=500;X-TITLE=2224 Yew Street Road:geo:-122.442241,48.7216949
END:VEVENT
BEGIN:VEVENT
DTSTART;TZID=UTC:20280622T183000
DTEND;TZID=UTC:20280622T203000
DTSTAMP:20260419T061145
CREATED:20250412T142223Z
LAST-MODIFIED:20250412T142224Z
UID:10013243-1845311400-1845318600@cslbellingham.org
SUMMARY:Thursday Reiki Share
DESCRIPTION:Please join us in the CSL Office on 2nd and 4th Thursdays\, 6:30 – 8:30\, for a Reiki share. We will have a short meditation followed by a short attunement\, a quick explanation of the Reiki principles\, and then group healing\, during which each person takes turns receiving healing hands from the group. It is for first-timers\, experienced Reiki teachers\, and anyone in-between. You may find that it is the most peaceful and calming part of your week. For further information\, contact Jeremy at 360-348-0018.
URL:https://cslbellingham.org/event/reiki-share-2/2028-06-22/
LOCATION:Office – Center for Spiritual Living Bellingham\, 2224 Yew Street Road\, Bellingham\, WA
CATEGORIES:Outside Event
ATTACH;FMTTYPE=image/jpeg:https://cslbellingham.org/wp-content/uploads/2022/10/reiki_share.jpeg
ORGANIZER;CN="CSL Bellingham Office":MAILTO:info@cslbellingham.org
GEO:48.7216949;-122.442241
X-APPLE-STRUCTURED-LOCATION;VALUE=URI;X-ADDRESS=Office – Center for Spiritual Living Bellingham 2224 Yew Street Road Bellingham WA;X-APPLE-RADIUS=500;X-TITLE=2224 Yew Street Road:geo:-122.442241,48.7216949
END:VEVENT
BEGIN:VEVENT
DTSTART;TZID=UTC:20280626T180000
DTEND;TZID=UTC:20280626T193000
DTSTAMP:20260419T061145
CREATED:20240518T170121Z
LAST-MODIFIED:20240518T170124Z
UID:10013255-1845655200-1845660600@cslbellingham.org
SUMMARY:Woodside Sangha - in person and via Zoom
DESCRIPTION:This Buddhist meditation group gathers on Monday evenings (in-person and via Zoom) at 5:45 for those in person practicing walking meditation or 6:00 for those on Zoom.  Meditation ends around 7:15 PM. For further information\, please contact Andrea Asebedo at woodsidesangha@gmail.com. You are very welcome to attend!
URL:https://cslbellingham.org/event/woodside-sangha-2020-05-04-2020-06-29-2021-10-25-7-2-2/2028-06-26/
LOCATION:2224 Yew Street Road\, Bellingham\, WA\, 98229\, United States
CATEGORIES:Outside Event
ATTACH;FMTTYPE=image/png:https://cslbellingham.org/wp-content/uploads/2024/04/Buddhist-meditation.png
END:VEVENT
BEGIN:VEVENT
DTSTART;TZID=America/Los_Angeles:20280628T190000
DTEND;TZID=America/Los_Angeles:20280628T200000
DTSTAMP:20260419T061145
CREATED:20250818T223014Z
LAST-MODIFIED:20250818T223015Z
UID:10014761-1845831600-1845835200@cslbellingham.org
SUMMARY:Al-Anon Meeting - "Our Common Welfare"
DESCRIPTION:Meets on Wednesdays from 7-8 PM in the classroom. Contact Cathy B\, 360-600-1949\, for further information.
URL:https://cslbellingham.org/event/al-anon-meeting-our-common-welfare-2-2/2028-06-28/
LOCATION:Classroom – Center for Spiritual Living Bellingham\, 2224 Yew Street Road\, Bellingham\, WA\, 98229\, United States
CATEGORIES:Outside Event
ATTACH;FMTTYPE=image/jpeg:https://cslbellingham.org/wp-content/uploads/2024/01/Our-Common-Welfare.jpg
ORGANIZER;CN="CSL Bellingham Office":MAILTO:info@cslbellingham.org
GEO:48.7216949;-122.442241
X-APPLE-STRUCTURED-LOCATION;VALUE=URI;X-ADDRESS=Classroom – Center for Spiritual Living Bellingham 2224 Yew Street Road Bellingham WA 98229 United States;X-APPLE-RADIUS=500;X-TITLE=2224 Yew Street Road:geo:-122.442241,48.7216949
END:VEVENT
END:VCALENDAR