BEGIN:VCALENDAR
VERSION:2.0
PRODID:-//Center for Spiritual Living Bellingham - ECPv6.15.20//NONSGML v1.0//EN
CALSCALE:GREGORIAN
METHOD:PUBLISH
X-WR-CALNAME:Center for Spiritual Living Bellingham
X-ORIGINAL-URL:https://cslbellingham.org
X-WR-CALDESC:Events for Center for Spiritual Living Bellingham
REFRESH-INTERVAL;VALUE=DURATION:PT1H
X-Robots-Tag:noindex
X-PUBLISHED-TTL:PT1H
BEGIN:VTIMEZONE
TZID:America/Los_Angeles
BEGIN:DAYLIGHT
TZOFFSETFROM:-0800
TZOFFSETTO:-0700
TZNAME:PDT
DTSTART:20250309T100000
END:DAYLIGHT
BEGIN:STANDARD
TZOFFSETFROM:-0700
TZOFFSETTO:-0800
TZNAME:PST
DTSTART:20251102T090000
END:STANDARD
BEGIN:DAYLIGHT
TZOFFSETFROM:-0800
TZOFFSETTO:-0700
TZNAME:PDT
DTSTART:20260308T100000
END:DAYLIGHT
BEGIN:STANDARD
TZOFFSETFROM:-0700
TZOFFSETTO:-0800
TZNAME:PST
DTSTART:20261101T090000
END:STANDARD
BEGIN:DAYLIGHT
TZOFFSETFROM:-0800
TZOFFSETTO:-0700
TZNAME:PDT
DTSTART:20270314T100000
END:DAYLIGHT
BEGIN:STANDARD
TZOFFSETFROM:-0700
TZOFFSETTO:-0800
TZNAME:PST
DTSTART:20271107T090000
END:STANDARD
END:VTIMEZONE
BEGIN:VEVENT
DTSTART;TZID=America/Los_Angeles:20260531T103000
DTEND;TZID=America/Los_Angeles:20260531T113000
DTSTAMP:20260425T125050
CREATED:20250706T215609Z
LAST-MODIFIED:20250706T215609Z
UID:10018685-1780223400-1780227000@cslbellingham.org
SUMMARY:Teen Group
DESCRIPTION:Teen Youth Group \nfor anyone ages 13 – 18 \nMeet together on 1st\, 3rd\, 5th Sundays during Service \nJoin us for Connection\, fun activities\, acceptance\, support\, spiritual practice and more! \nNext meetings: July 6\, August 3\, 17\, 31 \nNo meeting July 20. We will be at CAMP!
URL:https://cslbellingham.org/event/teen-group-3/2026-05-31/
LOCATION:Sanctuary – Center for Spiritual Living Bellingham\, 2224 Yew Street Road\, Bellingham\, WA\, United States
ATTACH;FMTTYPE=image/png:https://cslbellingham.org/wp-content/uploads/2025/07/teen-group.png
ORGANIZER;CN="CSL Bellingham Office":MAILTO:info@cslbellingham.org
GEO:48.7216949;-122.442241
X-APPLE-STRUCTURED-LOCATION;VALUE=URI;X-ADDRESS=Sanctuary – Center for Spiritual Living Bellingham 2224 Yew Street Road Bellingham WA United States;X-APPLE-RADIUS=500;X-TITLE=2224 Yew Street Road:geo:-122.442241,48.7216949
END:VEVENT
END:VCALENDAR