BEGIN:VCALENDAR
VERSION:2.0
PRODID:-//Center for Spiritual Living Bellingham - ECPv6.15.20//NONSGML v1.0//EN
CALSCALE:GREGORIAN
METHOD:PUBLISH
X-ORIGINAL-URL:https://cslbellingham.org
X-WR-CALDESC:Events for Center for Spiritual Living Bellingham
REFRESH-INTERVAL;VALUE=DURATION:PT1H
X-Robots-Tag:noindex
X-PUBLISHED-TTL:PT1H
BEGIN:VTIMEZONE
TZID:UTC
BEGIN:STANDARD
TZOFFSETFROM:+0000
TZOFFSETTO:+0000
TZNAME:UTC
DTSTART:20250101T000000
END:STANDARD
END:VTIMEZONE
BEGIN:VTIMEZONE
TZID:America/Los_Angeles
BEGIN:DAYLIGHT
TZOFFSETFROM:-0800
TZOFFSETTO:-0700
TZNAME:PDT
DTSTART:20250309T100000
END:DAYLIGHT
BEGIN:STANDARD
TZOFFSETFROM:-0700
TZOFFSETTO:-0800
TZNAME:PST
DTSTART:20251102T090000
END:STANDARD
BEGIN:DAYLIGHT
TZOFFSETFROM:-0800
TZOFFSETTO:-0700
TZNAME:PDT
DTSTART:20260308T100000
END:DAYLIGHT
BEGIN:STANDARD
TZOFFSETFROM:-0700
TZOFFSETTO:-0800
TZNAME:PST
DTSTART:20261101T090000
END:STANDARD
BEGIN:DAYLIGHT
TZOFFSETFROM:-0800
TZOFFSETTO:-0700
TZNAME:PDT
DTSTART:20270314T100000
END:DAYLIGHT
BEGIN:STANDARD
TZOFFSETFROM:-0700
TZOFFSETTO:-0800
TZNAME:PST
DTSTART:20271107T090000
END:STANDARD
END:VTIMEZONE
BEGIN:VEVENT
DTSTART;TZID=UTC:20260428T070000
DTEND;TZID=UTC:20260428T073000
DTSTAMP:20260425T113602
CREATED:20250308T182136Z
LAST-MODIFIED:20250308T182136Z
UID:10011121-1777359600-1777361400@cslbellingham.org
SUMMARY:Early Morning Moving Meditation
DESCRIPTION:Join Joe Asebedo in a Tai Chi-like moving meditation every Tuesday at 7:00 AM. When weather permits\, the meditation is held outside.
URL:https://cslbellingham.org/event/early-morning-moving-meditation-2-2/2026-04-28/
LOCATION:Campus – Center for Spiritual Living Bellingham\, 2224 Yew Street Road\, Bellingham\, WA\, 98229\, United States
CATEGORIES:Events
ATTACH;FMTTYPE=image/jpeg:https://cslbellingham.org/wp-content/uploads/2023/11/Moving-Meditation.jpg
ORGANIZER;CN="CSL Bellingham Office":MAILTO:info@cslbellingham.org
GEO:48.7216949;-122.442241
X-APPLE-STRUCTURED-LOCATION;VALUE=URI;X-ADDRESS=Campus – Center for Spiritual Living Bellingham 2224 Yew Street Road Bellingham WA 98229 United States;X-APPLE-RADIUS=500;X-TITLE=2224 Yew Street Road:geo:-122.442241,48.7216949
END:VEVENT
BEGIN:VEVENT
DTSTART;TZID=UTC:20260428T140000
DTEND;TZID=UTC:20260428T150000
DTSTAMP:20260425T113602
CREATED:20260306T164646Z
LAST-MODIFIED:20260306T164646Z
UID:10021691-1777384800-1777388400@cslbellingham.org
SUMMARY:Longevity Stick
DESCRIPTION:Longevity Stick 12 Movements \nLongevity Stick 12 Movements /Low-impact\, Slow\, Rhythmic Movements to enhance balance\, flexibility\, strength\, breathing\, mental focus & vitality! Weekly classes\, Tuesday & Thursday\, 2 pm to 3 pm/CSL Sanctuary\, 2224 Yew Street Road\, Bellingham. Love Offering requested. More Info + Registration:  Contact Instructor Gregory Meredith: gregman2432@live.com.
URL:https://cslbellingham.org/event/longevity-stick-class-2-2-2/2026-04-28/
LOCATION:Sanctuary – Center for Spiritual Living Bellingham\, 2224 Yew Street Road\, Bellingham\, WA\, United States
ATTACH;FMTTYPE=image/jpeg:https://cslbellingham.org/wp-content/uploads/2022/04/Longevity-Stick.jpg
ORGANIZER;CN="CSL Bellingham Office":MAILTO:info@cslbellingham.org
GEO:48.7216949;-122.442241
X-APPLE-STRUCTURED-LOCATION;VALUE=URI;X-ADDRESS=Sanctuary – Center for Spiritual Living Bellingham 2224 Yew Street Road Bellingham WA United States;X-APPLE-RADIUS=500;X-TITLE=2224 Yew Street Road:geo:-122.442241,48.7216949
END:VEVENT
BEGIN:VEVENT
DTSTART;TZID=America/Los_Angeles:20260428T180000
DTEND;TZID=America/Los_Angeles:20260428T200000
DTSTAMP:20260425T113602
CREATED:20260316T183903Z
LAST-MODIFIED:20260316T183908Z
UID:10022222-1777399200-1777406400@cslbellingham.org
SUMMARY:The Mystic Heart
DESCRIPTION:“The Mystic Heart”: Exploring Universal Spirituality \n7 Tuesday evenings\, 6 to 8 pm\, April 21 to June 2\, Zoom only \nTaught by Rev. Debora Gay \nDo you consider yourself a modern day mystic\, or is mysticism something you’ve wanted to explore? This class gives you the opportunity to study the mystic path and explore your awareness of the Divine Presence in all life. We explore mystic traditions found in Buddhism\, Hinduism\, Christianity and mysticism of the Natural World\, in the context of the Science of Mind perspective of Oneness. You will explore your own beliefs and have experiences that develop your mystical perspective.  At least one of the following Science of Mind classes is a prerequisite: Foundations or Beyond Limits or Spiritual Economics. \nRequired Book: The Mystic Heart by Wayne Teasdale. A free digital workbook will be provided to students; a printed workbook may be purchased\, during registration\, for $10\, if ordered by Sunday\, April 12. \nInvestment in Your Spiritual Growth: $175 (RScP: $135). Scholarship Rate: $97. Sponsor Rate: $250 (helps others attend). \nPurchase tickets from the April 21st event page. \n 
URL:https://cslbellingham.org/event/the-mystic-heart-2/2026-04-28/
LOCATION:Zoom Meeting\, 2224 Yew Street Road\, Bellingham\, WA\, 98229\, United States
CATEGORIES:Classes
ATTACH;FMTTYPE=image/png:https://cslbellingham.org/wp-content/uploads/2026/03/The-Mystic-Heart.png
ORGANIZER;CN="CSL Bellingham Office":MAILTO:info@cslbellingham.org
END:VEVENT
END:VCALENDAR