BEGIN:VCALENDAR
VERSION:2.0
PRODID:-//Center for Spiritual Living Bellingham - ECPv6.15.20//NONSGML v1.0//EN
CALSCALE:GREGORIAN
METHOD:PUBLISH
X-WR-CALNAME:Center for Spiritual Living Bellingham
X-ORIGINAL-URL:https://cslbellingham.org
X-WR-CALDESC:Events for Center for Spiritual Living Bellingham
REFRESH-INTERVAL;VALUE=DURATION:PT1H
X-Robots-Tag:noindex
X-PUBLISHED-TTL:PT1H
BEGIN:VTIMEZONE
TZID:America/Los_Angeles
BEGIN:DAYLIGHT
TZOFFSETFROM:-0800
TZOFFSETTO:-0700
TZNAME:PDT
DTSTART:20250309T100000
END:DAYLIGHT
BEGIN:STANDARD
TZOFFSETFROM:-0700
TZOFFSETTO:-0800
TZNAME:PST
DTSTART:20251102T090000
END:STANDARD
BEGIN:DAYLIGHT
TZOFFSETFROM:-0800
TZOFFSETTO:-0700
TZNAME:PDT
DTSTART:20260308T100000
END:DAYLIGHT
BEGIN:STANDARD
TZOFFSETFROM:-0700
TZOFFSETTO:-0800
TZNAME:PST
DTSTART:20261101T090000
END:STANDARD
BEGIN:DAYLIGHT
TZOFFSETFROM:-0800
TZOFFSETTO:-0700
TZNAME:PDT
DTSTART:20270314T100000
END:DAYLIGHT
BEGIN:STANDARD
TZOFFSETFROM:-0700
TZOFFSETTO:-0800
TZNAME:PST
DTSTART:20271107T090000
END:STANDARD
END:VTIMEZONE
BEGIN:VEVENT
DTSTART;TZID=America/Los_Angeles:20260426T093000
DTEND;TZID=America/Los_Angeles:20260426T101500
DTSTAMP:20260425T113455
CREATED:20260212T162603Z
LAST-MODIFIED:20260319T215902Z
UID:10021359-1777195800-1777198500@cslbellingham.org
SUMMARY:First Service
DESCRIPTION:First Service: Inner Journey | 9:30-10:15am \nStart your Sunday with sacred stillness. This intimate 45-minute gathering includes profound meditation from our practitioners and a reflective sermon from our Spiritual Director or guest speaker. Perfect for seekers craving depth\, contemplation\, and a quieter path to spiritual renewal. The topic will be the same as that of the Second Service. \nSecond service will include our band and be during our regularly scheduled time of 10:30am.
URL:https://cslbellingham.org/event/early-service/2026-04-26/
LOCATION:Sanctuary – Center for Spiritual Living Bellingham\, 2224 Yew Street Road\, Bellingham\, WA\, United States
CATEGORIES:Events,Sunday Service
ATTACH;FMTTYPE=image/png:https://cslbellingham.org/wp-content/uploads/2024/04/Buddhist-meditation.png
ORGANIZER;CN="CSL Bellingham Office":MAILTO:info@cslbellingham.org
GEO:48.7216949;-122.442241
X-APPLE-STRUCTURED-LOCATION;VALUE=URI;X-ADDRESS=Sanctuary – Center for Spiritual Living Bellingham 2224 Yew Street Road Bellingham WA United States;X-APPLE-RADIUS=500;X-TITLE=2224 Yew Street Road:geo:-122.442241,48.7216949
END:VEVENT
BEGIN:VEVENT
DTSTART;TZID=America/Los_Angeles:20260426T101500
DTEND;TZID=America/Los_Angeles:20260426T114500
DTSTAMP:20260425T113455
CREATED:20250818T222612Z
LAST-MODIFIED:20250818T222613Z
UID:10018282-1777198500-1777203900@cslbellingham.org
SUMMARY:Childcare
DESCRIPTION:Children’s program & nursery/toddler care \nChildren’s educational program and infant/toddler care are available during every Sunday Service. \nWe are delighted to announce that we have found wonderful people who will begin helping with our baby and toddler program in the Office.  If you are a parent of an infant or toddler\, we invite you to come into the Office to fill out a short form with contact information.
URL:https://cslbellingham.org/event/childcare-2/2026-04-26/
LOCATION:Office – Center for Spiritual Living Bellingham\, 2224 Yew Street Road\, Bellingham\, WA
ATTACH;FMTTYPE=image/jpeg:https://cslbellingham.org/wp-content/uploads/2023/06/baby.jpg
ORGANIZER;CN="CSL Bellingham Office":MAILTO:info@cslbellingham.org
GEO:48.7216949;-122.442241
X-APPLE-STRUCTURED-LOCATION;VALUE=URI;X-ADDRESS=Office – Center for Spiritual Living Bellingham 2224 Yew Street Road Bellingham WA;X-APPLE-RADIUS=500;X-TITLE=2224 Yew Street Road:geo:-122.442241,48.7216949
END:VEVENT
BEGIN:VEVENT
DTSTART;TZID=America/Los_Angeles:20260426T103000
DTEND;TZID=America/Los_Angeles:20260426T113000
DTSTAMP:20260425T113455
CREATED:20260331T130504Z
LAST-MODIFIED:20260331T130505Z
UID:10018006-1777199400-1777203000@cslbellingham.org
SUMMARY:Second Service
DESCRIPTION:Second Service: Celebration Service | 10:30-11:30am \nJoin the celebration—in person or online! Experience an uplifting hour of live music\, inspiring messages\, and joyful community. With our full band\, kids program\, and livestream\, this is where families gather\, hearts open\, and Spirit moves. Stream it from anywhere or join us live—either way\, you’re home. \nJoin the Livestream (during Sunday Service) \nTalk Title: Love as a Daily Commitment \nRev. Abigail Schairer\, Senior Minister \nWhat if love were not a fleeting feeling\, but a daily practice that reveals who you truly are? How much do you practice love as a sacred path to your true divine revelation?
URL:https://cslbellingham.org/event/sunday-service-2-7/
LOCATION:Sanctuary – Center for Spiritual Living Bellingham\, 2224 Yew Street Road\, Bellingham\, WA\, United States
CATEGORIES:Events,Sunday Service
ATTACH;FMTTYPE=image/jpeg:https://cslbellingham.org/wp-content/uploads/2026/03/April-26.jpg
ORGANIZER;CN="CSL Bellingham Office":MAILTO:info@cslbellingham.org
GEO:48.7216949;-122.442241
X-APPLE-STRUCTURED-LOCATION;VALUE=URI;X-ADDRESS=Sanctuary – Center for Spiritual Living Bellingham 2224 Yew Street Road Bellingham WA United States;X-APPLE-RADIUS=500;X-TITLE=2224 Yew Street Road:geo:-122.442241,48.7216949
END:VEVENT
END:VCALENDAR